BEGIN:VCALENDAR
VERSION:2.0
PRODID:-//RIGHTHERE//CALENDARIZE IT V3.2//EN
BEGIN:VEVENT
UID:448-events@cvmanor.com
DTSTART;VALUE=DATE:20190505
DTEND;VALUE=DATE:20190505
DTSTAMP:20190405T220602Z
SUMMARY:Robinson Jeffers Tor House Garden Party
URL:https://cvmanor.com/events/robinson-jeffers-tor-house-garden-party/
END:VEVENT
END:VCALENDAR